BEGIN:VCALENDAR
VERSION:2.0
PRODID:-//hopelanding.com//NONSGML kigkonsult.se iCalcreator 2.30.10//
CALSCALE:GREGORIAN
METHOD:PUBLISH
UID:468e6b57-3534-45ba-a46e-1bd9ec5b49d7
X-WR-CALDESC:
X-WR-RELCALID:47c29e16531f00e4daabfda2ab80d275
X-WR-TIMEZONE:America/Chicago
BEGIN:VTIMEZONE
TZID:America/Chicago
BEGIN:STANDARD
TZNAME:CST
DTSTART:20211107T020000
TZOFFSETFROM:-0500
TZOFFSETTO:-0600
RDATE:20221106T020000
RDATE:20231105T020000
END:STANDARD
BEGIN:DAYLIGHT
TZNAME:CDT
DTSTART:20220313T020000
TZOFFSETFROM:-0600
TZOFFSETTO:-0500
RDATE:20230312T020000
END:DAYLIGHT
END:VTIMEZONE
BEGIN:VEVENT
UID:f13c0c62-98eb-4fe5-aad1-64b18a000d18
DTSTAMP:20260425T105557Z
DESCRIPTION:
DTSTART;TZID=America/Chicago:20220613T000000
DTEND;TZID=America/Chicago:20220617T235900
LOCATION:
SUMMARY:Public Horse Camp - Novice/Beginner Western
END:VEVENT
END:VCALENDAR
