BEGIN:VCALENDAR
VERSION:2.0
PRODID:-//hopelanding.com//NONSGML kigkonsult.se iCalcreator 2.30.10//
CALSCALE:GREGORIAN
METHOD:PUBLISH
UID:b2e6bdc6-030d-4b13-8f95-9c84d58d3738
X-WR-CALDESC:
X-WR-RELCALID:de4ac7c9f878605489bff9b4064eab65
X-WR-TIMEZONE:America/Chicago
BEGIN:VTIMEZONE
TZID:America/Chicago
BEGIN:STANDARD
TZNAME:CST
DTSTART:20251102T020000
TZOFFSETFROM:-0500
TZOFFSETTO:-0600
RDATE:20261101T020000
RDATE:20271107T020000
END:STANDARD
BEGIN:DAYLIGHT
TZNAME:CDT
DTSTART:20260308T020000
TZOFFSETFROM:-0600
TZOFFSETTO:-0500
RDATE:20270314T020000
END:DAYLIGHT
END:VTIMEZONE
BEGIN:VEVENT
UID:d710599b-6831-4234-ae36-b71a482c7d3b
DTSTAMP:20260420T165918Z
DESCRIPTION:
DTSTART;TZID=America/Chicago:20260529T050000
DTEND;TZID=America/Chicago:20260529T050001
LOCATION:214 HOPE Landing Road\, El Dorado\, AR 71730 US
SUMMARY:Last Day of School Schedule
END:VEVENT
END:VCALENDAR
