BEGIN:VCALENDAR
VERSION:2.0
PRODID:-//hopelanding.com//NONSGML kigkonsult.se iCalcreator 2.30.10//
CALSCALE:GREGORIAN
METHOD:PUBLISH
UID:672201ea-41d8-4f14-81d4-0d56c9bcb5a7
X-WR-CALDESC:
X-WR-RELCALID:b2b2cb998ba53c7237aae3affd694109
X-WR-TIMEZONE:America/Chicago
BEGIN:VTIMEZONE
TZID:America/Chicago
BEGIN:STANDARD
TZNAME:CST
DTSTART:20251102T020000
TZOFFSETFROM:-0500
TZOFFSETTO:-0600
RDATE:20261101T020000
RDATE:20271107T020000
END:STANDARD
BEGIN:DAYLIGHT
TZNAME:CDT
DTSTART:20260308T020000
TZOFFSETFROM:-0600
TZOFFSETTO:-0500
RDATE:20270314T020000
END:DAYLIGHT
END:VTIMEZONE
BEGIN:VEVENT
UID:a890b4b9-589a-4752-b11b-5330b12a4670
DTSTAMP:20260422T211027Z
DESCRIPTION:
DTSTART;TZID=America/Chicago:20260601T050000
DTEND;TZID=America/Chicago:20260601T050001
LOCATION:214 HOPE Landing Road\, El Dorado\, AR 71730 US
SUMMARY:Summer Schedule BEGINS
END:VEVENT
END:VCALENDAR
